BEGIN:VCALENDAR
VERSION:2.0
PRODID:-//wp-events-plugin.com//7.2.3.1//EN
BEGIN:VEVENT
UID:0-1@populareducation.in
DTSTART;TZID=Asia/Kolkata:20250319T110000
DTEND;TZID=Asia/Kolkata:20250320T170000
DTSTAMP:20250417T014952Z
URL:https://populareducation.in/events/three-decades-of-questioning-cultur
 e-and-the-road-ahead/
SUMMARY:सवालिया संस्कृति की यात्
 रा के  तीन दशक और भविष्य
DESCRIPTION:1994 में\, कुछ समान विचारधा
 रा वाले साथी एक साथ आए और पॉप
 ुलर एजुकेशन एंड एक्शन सेंटर 
 (PEACE) की स्थापना की। उस समय की स
 ामाजिक-राजनीतिक स्थिति आज क
 ी ही तरह नाज़ुक थी\, लेकिन एक 
 बेहतर दुनिया का सपना सामूहि
 क चेतना में जीवित था। जब हमन
 े नयी दिल्ली के क़टवारिया सर
 ाय गाँव के एक छोटे से कार्या
 लय से अपना कार्य शुरू किया\, त
 ो वह स्थान सामाजिक कार्यकर्
 ताओं\, शोधकर्ताओं\, शिक्षावि
 दों\, पत्रकारों और अन्य जागर
 ूक लोगों के लिए एक सक्रिय के
 ंद्र में बदल गया। आप भी कभी न 
 कभी किसी न किसी रूप में PEACE से 
 जुड़े रहे होंगे।\n\nइन तीन दशक
 ों की सामूहिक यात्रा के दौरा
 न\, हमने कई उतार-चढ़ाव देखे\, ल
 ेकिन जन समूहों और संगठनों के
  माध्यम से समुदायों को सशक्त
  बनाने की हमारी प्रतिबद्धता 
 बनी रही। हमारे अनुभवात्मक श
 िक्षण\, सहभागी प्रशिक्षण और 
 सहयोग के तरीकों ने इस प्रक्र
 िया में महत्वपूर्ण भूमिका न
 िभाई। 21वीं सदी के पहले दशक तक
  PEACE जैसी संस्थाएँ गतिविधियो
 ं से सराबोर थीं\, लेकिन जैसे-ज
 ैसे दूसरा दशक आया\, चीज़ें बद
 लने लगीं। नियामक तंत्र\, सिक
 ुड़ती लोकतांत्रिक जगहें\, रा
 ज्य का बढ़ता हस्तक्षेप और सा
 माजिक कार्यों पर बढ़ती पाबं
 दियों ने हमारी भूमिका और संस
 ाधनों को सीमित करना शुरू कर 
 दिया। यह वही समय था जब कई साथ
 ी नई संभावनाओं की तलाश में आ
 गे बढ़ गए\, कुछ साथ बने रहे\, और
  कई लोग दूर रहकर भी जुड़े रहे
 ।\n\nबीते दशकों में हमने अपने 
 व्यक्तिगत जीवन और संगठनात्
 मक जीवन में समान बदलावों का 
 अनुभव किया है। सामाजिक क्षे
 त्र पर बढ़ते दबावों के बावजू
 द\, हम आज भी सक्रिय हैं और अपन
 े-अपने स्तर पर बदलाव की संस्
 कृति को जीवित रखने का प्रयास
  कर रहे हैं। यही PEACE की स्थापन
 ा का मूल उद्देश्य था\, और आज भ
 ी बना हुआ है।\n\nअब\, जब PEACE अपने 30
  वर्ष पूरे कर रहा है\, तो यह हम
 ारे अतीत को संजोने\, वर्तमान 
 को पुनः आंकने और भविष्य को प
 ुनः आकार देने का सबसे उपयुक्
 त समय है। इसी उद्देश्य से\, हम
  आपको दिल्ली में 19-20 मार्च 2025 क
 ो दो दिवसीय राष्ट्रीय सम्मे
 लन में सादर आमंत्रित करते है
 ं। इस अवसर पर\, हम अपने सभी मि
 त्रों\, भागीदारों\, जमीनी नेत
 ाओं और सहयोगी संगठनों को एक 
 साथ लाने की कोशिश कर रहे हैं\,
  जो किसी भी रूप में हमारी यात
 ्रा का हिस्सा रहे हैं। यह सम
 ्मेलन हमें आत्ममंथन\, विचार-
 विमर्श और हमारे सामूहिक भवि
 ष्य की योजना बनाने में मदद क
 रेगा। साथ ही\, यह नई आशाएँ भी 
 जगाएगा।\n\nPEACE के लिए इस आयोजन म
 ें आपकी उपस्थिति और सहयोग बह
 ुत महत्वपूर्ण है। हम चाहेंग
 े कि आप समय निकालकर इस आयोजन 
 का हिस्सा बनें। आप कुछ इस तर
 ह से इसमें सहभागिता कर सकते 
 हैं-\n\n 	अपने साधनों से इस आयोज
 न में शामिल होकर। (बोर्डिंग-
 लोज़िग और यात्रा व्यय स्वयं व
 हन कर)\n 	अपनी यात्रा का खर्च स
 ्वयं उठाकर। (पीस द्वारा कार्
 यक्रम के दौरान आपके बोर्डिं
 ग-लोज़िग की व्यवस्था करने की 
 कोशिश की जायेगी)\n 	व्यक्तिगत 
 रूप से आर्थिक सहयोग (1\,000 से 10\,000
  रूपए) कर।\n 	और PEACE के साथ अपने अ
 नुभवों को लिखकर हमारे साथ सा
 झा कर।\n\nइस कार्यक्रम को सफल 
 बनाने के लिए हमें आपके सहयोग
  की भी आवश्यकता है। अनुमानित
  150-200 प्रतिभागियों की उपस्थित
 ि को देखते हुए\, हम यात्रा\, ठह
 रने और भोजन का खर्च वहन करने 
 हेतु धनराशि एकत्रित करने का 
 प्रयास कर रहे हैं। आपके द्वा
 रा की गयी सहायता इस आयोजन को 
 सफल बनाने में मदद करेगी। बैं
 क विवरण\, सहयोग हस्तांतरण वि
 कल्प या अधिक जानकारी के लिए 
 कृपया हमसे संपर्क करने के लि
 ए- peaceactdelh@gmail.com पर लिखे या 011-41881374\, +91-
 9999046291 पर फोन करें।\n\nआप हमारे स
 फर का हिस्सा रहे हैं\, और हम आ
 पके साथ पुन: सफर का हिस्सा हो
 ना चाहते हैं। जब लोग मिलते ह
 ैं\, तो वे नई उम्मीदें पैदा कर
 ते हैं। हमें आपके पुनर्मिलन 
 का बेसब्री से इंतजार है।\n\nसा
 दर\, टीम\n\nPEACE
ATTACH;FMTTYPE=image/jpeg:https://populareducation.in/wp-content/uploads/2
 025/02/30-Years_Postrer_1.jpg
LOCATION:हरकिशन सिंह सुरजीत भवन\, 10\
 ,11\, 12\,  इंद्रजीत गुप्ता मार्ग\, 
 राउज़ एवेन्यू\, मंडी हाउस\, New De
 lhi\, Delhi\, 110002\, India
X-APPLE-STRUCTURED-LOCATION;VALUE=URI;X-ADDRESS=10\,11\, 12\,  इंद्
 रजीत गुप्ता मार्ग\, राउज़ एव
 ेन्यू\, मंडी हाउस\, New Delhi\, Delhi\, 110002\,
  India;X-APPLE-RADIUS=100;X-TITLE=हरकिशन सिंह सु
 रजीत भवन:geo:0,0
END:VEVENT
BEGIN:VTIMEZONE
TZID:Asia/Kolkata
X-LIC-LOCATION:Asia/Kolkata
BEGIN:STANDARD
DTSTART:20240319T110000
TZOFFSETFROM:+0530
TZOFFSETTO:+0530
TZNAME:IST
END:STANDARD
END:VTIMEZONE
END:VCALENDAR